BEGIN:VCALENDAR
VERSION:2.0
METHOD:PUBLISH
PRODID:-//Accessible Web Design//My Calendar//http://www.joedolson.com//v//EN';
BEGIN:VEVENT
UID:83-75
LOCATION:BOBBERS GRILL 1850 Scales Bend Rd NE  NORTH LIBERTY IA 52317
SUMMARY:BOBBER'S GRILL
DTSTAMP:20250711T190000
ORGANIZER;CN=Steve Prottsman:MAILTO:smprottsman@hotmail.com
DTSTART:20250711T190000
DTEND:20250711T220000
CATEGORIES:General
URL;VALUE=URI:https://beakerbrothersband.com/mc-events/bobbers-grill-2/?mc_id=83
DESCRIPTION:
END:VEVENT
END:VCALENDAR